BEGIN:VCALENDAR
PRODID:-//github.com/rianjs/ical.net//NONSGML ical.net 4.0//EN
VERSION:2.0
BEGIN:VEVENT
DESCRIPTION:Kulturfest
DTEND:20260429T235959
DTSTAMP:20260425T142851Z
DTSTART;VALUE=DATE:20260429
SEQUENCE:0
SUMMARY:Kulturfest
UID:91c12918-8f6f-4b9b-a392-d45d4fefc163
END:VEVENT
END:VCALENDAR
